BEGIN:VCALENDAR
VERSION:2.0
PRODID:-//Big Lux Violin - ECPv6.15.20//NONSGML v1.0//EN
CALSCALE:GREGORIAN
METHOD:PUBLISH
X-WR-CALNAME:Big Lux Violin
X-ORIGINAL-URL:https://bigluxviolin.com
X-WR-CALDESC:Events for Big Lux Violin
REFRESH-INTERVAL;VALUE=DURATION:PT1H
X-Robots-Tag:noindex
X-PUBLISHED-TTL:PT1H
BEGIN:VTIMEZONE
TZID:America/Halifax
BEGIN:DAYLIGHT
TZOFFSETFROM:-0400
TZOFFSETTO:-0300
TZNAME:ADT
DTSTART:20250309T060000
END:DAYLIGHT
BEGIN:STANDARD
TZOFFSETFROM:-0300
TZOFFSETTO:-0400
TZNAME:AST
DTSTART:20251102T050000
END:STANDARD
BEGIN:DAYLIGHT
TZOFFSETFROM:-0400
TZOFFSETTO:-0300
TZNAME:ADT
DTSTART:20260308T060000
END:DAYLIGHT
BEGIN:STANDARD
TZOFFSETFROM:-0300
TZOFFSETTO:-0400
TZNAME:AST
DTSTART:20261101T050000
END:STANDARD
BEGIN:DAYLIGHT
TZOFFSETFROM:-0400
TZOFFSETTO:-0300
TZNAME:ADT
DTSTART:20270314T060000
END:DAYLIGHT
BEGIN:STANDARD
TZOFFSETFROM:-0300
TZOFFSETTO:-0400
TZNAME:AST
DTSTART:20271107T050000
END:STANDARD
END:VTIMEZONE
BEGIN:VEVENT
DTSTART;TZID=America/Halifax:20260506T190000
DTEND;TZID=America/Halifax:20260506T210000
DTSTAMP:20260421T201423
CREATED:20260420T090030Z
LAST-MODIFIED:20260421T125845Z
UID:6432-1778094000-1778101200@bigluxviolin.com
SUMMARY:Needle & Thread
DESCRIPTION:
URL:https://bigluxviolin.com/event/needle-thread/
LOCATION:Needle & Thread\, 45 Peck Street\, Providence\, RI\, 02903\, United States
CATEGORIES:This week
END:VEVENT
END:VCALENDAR